BEGIN:VCALENDAR
VERSION:2.0
PRODID:-//Department Of Education//532fcc9d-7fa7-4028-be2f-eaf9c41aebcc
BEGIN:VTIMEZONE
TZID:Australia/Sydney
TZURL:http://tzurl.org/zoneinfo-outlook/Australia/Sydney
X-LIC-LOCATION:Australia/Sydney
BEGIN:STANDARD
TZOFFSETFROM:+1100
TZOFFSETTO:+1000
TZNAME:AEST
DTSTART:19700405T030000
RRULE:FREQ=YEARLY;BYMONTH=4;BYDAY=1SU
END:STANDARD
BEGIN:DAYLIGHT
TZOFFSETFROM:+1000
TZOFFSETTO:+1100
TZNAME:AEDT
DTSTART:19701004T020000
RRULE:FREQ=YEARLY;BYMONTH=10;BYDAY=1SU
END:DAYLIGHT
END:VTIMEZONE
CALSCALE:GREGORIAN
X-WR-TIMEZONE:Australia/Sydney
BEGIN:VEVENT
DTSTART;TZID=Australia/Sydney:20180626T083043
DTEND;TZID=Australia/Sydney:20180626T160051
DTSTAMP:20180626T000000Z
UID:bdaf0482-a6d7-4089-af25-aa765edac6bb
LOCATION:Questacon and Botanic Gardens
SUMMARY;LANGUAGE=en-us:Test Canberra Excursion
SEQUENCE:0
DESCRIPTION:Students will travel to Canberra to visit Queastacon and the Botanic Gardens as part of our Science, Geography and Creative Art work.
END:VEVENT
TRANSP:TRANSPARENT
END:VCALENDAR
