BEGIN:VCALENDAR
VERSION:2.0
PRODID:-//Department Of Education//9f7f2645-fe5c-48e9-b4b7-d1fcc05f454b
BEGIN:VTIMEZONE
TZID:Australia/Sydney
TZURL:http://tzurl.org/zoneinfo-outlook/Australia/Sydney
X-LIC-LOCATION:Australia/Sydney
BEGIN:STANDARD
TZOFFSETFROM:+1100
TZOFFSETTO:+1000
TZNAME:AEST
DTSTART:19700405T030000
RRULE:FREQ=YEARLY;BYMONTH=4;BYDAY=1SU
END:STANDARD
BEGIN:DAYLIGHT
TZOFFSETFROM:+1000
TZOFFSETTO:+1100
TZNAME:AEDT
DTSTART:19701004T020000
RRULE:FREQ=YEARLY;BYMONTH=10;BYDAY=1SU
END:DAYLIGHT
END:VTIMEZONE
CALSCALE:GREGORIAN
X-WR-TIMEZONE:Australia/Sydney
BEGIN:VEVENT
DTSTART;TZID=Australia/Sydney:20180628T083026
DTEND;TZID=Australia/Sydney:20180628T160033
DTSTAMP:20180628T000000Z
UID:7090e346-3179-41ab-9668-cab85a35ab7a
LOCATION:Canberra Theatre Centre
SUMMARY;LANGUAGE=en-us:George's Marvellous Medicine Excursion
SEQUENCE:0
DESCRIPTION:Student's will watch the amazing production of George's Marvellous Medicine that they ahve been studying this term
END:VEVENT
TRANSP:TRANSPARENT
END:VCALENDAR
